BEGIN:VCALENDAR
VERSION:2.0
PRODID:-//Plone.org//NONSGML plone.app.event//EN
X-WR-TIMEZONE:Europe/Vienna
BEGIN:VEVENT
SUMMARY:Zeugnisabgabe 1. und 2. Klassen
DTSTART;VALUE=DATE:20260619
DTEND;VALUE=DATE:20260620
DTSTAMP;VALUE=DATE-TIME:20260421T140848Z
UID:e92b829412214bf0ad7fdd7ca7995274@127.0.0.1:10150
CREATED;VALUE=DATE-TIME:20250808T130803Z
LAST-MODIFIED;VALUE=DATE-TIME:20250808T131026Z
URL:https://www.sek-dreilinden.ch/termine/zeugnisabgabe-1-und-2-klassen
END:VEVENT
END:VCALENDAR
