BEGIN:VCALENDAR
VERSION:2.0
PRODID:-//Plone.org//NONSGML plone.app.event//EN
X-WR-TIMEZONE:Europe/Vienna
BEGIN:VEVENT
SUMMARY:Abschlussfeier
DTSTART;TZID=Europe/Vienna;VALUE=DATE-TIME:20260625T180000
DTEND;TZID=Europe/Vienna;VALUE=DATE-TIME:20260625T200000
DTSTAMP;VALUE=DATE-TIME:20260424T173108Z
UID:06208d7bf71544aab42d41951e9e3487@127.0.0.1:10150
CREATED;VALUE=DATE-TIME:20250808T130906Z
LAST-MODIFIED;VALUE=DATE-TIME:20250808T131026Z
LOCATION:Aula
URL:https://www.sek-dreilinden.ch/termine/abschlussfeier
END:VEVENT
BEGIN:VTIMEZONE
TZID:Europe/Vienna
X-LIC-LOCATION:Europe/Vienna
BEGIN:DAYLIGHT
DTSTART;VALUE=DATE-TIME:20260329T030000
TZNAME:CEST
TZOFFSETFROM:+0100
TZOFFSETTO:+0200
END:DAYLIGHT
END:VTIMEZONE
END:VCALENDAR
